BEGIN:VCALENDAR
VERSION:2.0
PRODID:-//https://www.dsdublin.ie///NONSGML kigkonsult.se iCalcreator 2.10.15//
METHOD:PUBLISH
BEGIN:VEVENT
UID:20171107T124210GMT-7573REwocK@https://www.dsdublin.ie/
DTSTAMP:20171107T124210Z
DESCRIPTION:Max number of places 35 per day  Numicon Seminars\,\nThis is a 
 one day seminar\, book for either Friday or Saturday.\nFriday 2nd October 
 2015\, 9.30am-4pm\, registration 9.15am\nSaturday 3rd October 2015\, 9.30a
 m-4pm\, registration 9.15am\nCost €25 per person\, including lunch\, tea/ 
 coffee\nSuitable for all those starting out with Numicon. Both parents and
  teachers welcome\nThe training sessions will outline the challenges and p
 otential barriers to learning maths skills and concepts and that children 
 meet when faced with the abstract nature of mathematics. The sessions will
  give practical advice on using and adapting Numicon Maths and Numeracy pr
 ogrammes for children with Additional Support Needs.\nNumicon is a&nbsp\;p
 roven approach to teaching maths to young children. It&nbsp\;is a curricul
 um proof\, multi-sensory approach\, built on a proven pedagogy that raises
  achievement across all ability levels. With problem-solving\, reasoning a
 nd conversation at its heart\, Numicon perfectly embodies the aims of the 
 National Numeracy Strategy. https://www.dsdublin.ie/component/rseventspro/
 event/58-numicon-autumn-2015
DTSTART:20151002T083000Z
DTEND:20151003T153000Z
LOCATION:Clarion Hotel Liffey Valley (R113\, Dublin\, Co. Dublin\, Ireland)
SUMMARY:Numicon Autumn 2015
URL:https://www.dsdublin.ie/component/rseventspro/event/58-numicon-autumn-2
 015
END:VEVENT
END:VCALENDAR
